BEGIN:VCALENDAR
VERSION:2.0
PRODID:-//The Wooden Spoon - ECPv6.15.20//NONSGML v1.0//EN
CALSCALE:GREGORIAN
METHOD:PUBLISH
X-ORIGINAL-URL:https://woodenspoongentry.com
X-WR-CALDESC:Events for The Wooden Spoon
REFRESH-INTERVAL;VALUE=DURATION:PT1H
X-Robots-Tag:noindex
X-PUBLISHED-TTL:PT1H
BEGIN:VTIMEZONE
TZID:America/Chicago
BEGIN:DAYLIGHT
TZOFFSETFROM:-0600
TZOFFSETTO:-0500
TZNAME:CDT
DTSTART:20250309T080000
END:DAYLIGHT
BEGIN:STANDARD
TZOFFSETFROM:-0500
TZOFFSETTO:-0600
TZNAME:CST
DTSTART:20251102T070000
END:STANDARD
BEGIN:DAYLIGHT
TZOFFSETFROM:-0600
TZOFFSETTO:-0500
TZNAME:CDT
DTSTART:20260308T080000
END:DAYLIGHT
BEGIN:STANDARD
TZOFFSETFROM:-0500
TZOFFSETTO:-0600
TZNAME:CST
DTSTART:20261101T070000
END:STANDARD
BEGIN:DAYLIGHT
TZOFFSETFROM:-0600
TZOFFSETTO:-0500
TZNAME:CDT
DTSTART:20270314T080000
END:DAYLIGHT
BEGIN:STANDARD
TZOFFSETFROM:-0500
TZOFFSETTO:-0600
TZNAME:CST
DTSTART:20271107T070000
END:STANDARD
END:VTIMEZONE
BEGIN:VEVENT
DTSTART;TZID=America/Chicago:20260418T190000
DTEND;TZID=America/Chicago:20260418T210000
DTSTAMP:20260423T181326
CREATED:20260304T130829Z
LAST-MODIFIED:20260304T130829Z
UID:10000142-1776538800-1776546000@woodenspoongentry.com
SUMMARY:Mystery Dinner Theatre — The Conundrum on the Cracker Jack Cruise (7PM)
DESCRIPTION:Join us for an unforgettable evening of delicious food\, thrilling mystery\, and live entertainment at The Conundrum on the Cracker Jack Cruise! \nThe Wooden Spoon is partnering with Lower Lights Theatre Company to bring fun\, family-friendly live theatre to our community. Proceeds from this event help support local arts in Northwest Arkansas\, so your night out directly strengthens the creative community around us. \nChoose your showtime and come ready to eat\, laugh\, and solve the mystery as the story unfolds around you in an interactive theatre experience. \n📅 Saturday\, April 18\n🕑 Showtime: 7:00 PM\n📍 The Wooden Spoon — 1000 S Gentry Blvd\, Gentry \nCome enjoy a fun\, family-friendly night as The Wooden Spoon partners with Lower Lights Theatre Company to bring live theatre to our community. Proceeds from this event help support local arts in Northwest Arkansas! \n🎟 Tickets include:\n• Buffet-style dinner\n• Beverage & dessert\n• Interactive mystery theatre experience \n🍽 Dinner entrée options include:\nAlfredo Pasta\, Chicken Alfredo Pasta\, or Momma’s Meatloaf (guests will select their entrée when purchasing tickets). \nTickets are $60 per person.⚠️ Seating is limited — this event sells out quickly!
URL:https://woodenspoongentry.com/event/mystery-dinner-theatre-the-conundrum-on-the-cracker-jack-cruise-7pm/
LOCATION:The Wooden Spoon\, 1000 S Gentry Blvd\, Gentry\, 72734\, United States
CATEGORIES:Mystery Dinner Theatre
ATTACH;FMTTYPE=image/png:https://woodenspoongentry.com/wp-content/uploads/2026/03/89c64d70-77d0-4883-acc4-e56f451375ed.png
END:VEVENT
BEGIN:VEVENT
DTSTART;TZID=America/Chicago:20260418T140000
DTEND;TZID=America/Chicago:20260418T160000
DTSTAMP:20260423T181326
CREATED:20260304T130534Z
LAST-MODIFIED:20260304T130921Z
UID:10000141-1776520800-1776528000@woodenspoongentry.com
SUMMARY:Mystery Dinner Theatre — The Conundrum on the Cracker Jack Cruise (2PM)
DESCRIPTION:Join us for an unforgettable evening of delicious food\, thrilling mystery\, and live entertainment at The Conundrum on the Cracker Jack Cruise! \nThe Wooden Spoon is partnering with Lower Lights Theatre Company to bring fun\, family-friendly live theatre to our community. Proceeds from this event help support local arts in Northwest Arkansas\, so your night out directly strengthens the creative community around us. \nChoose your showtime and come ready to eat\, laugh\, and solve the mystery as the story unfolds around you in an interactive theatre experience. \n📅 Saturday\, April 18\n🕑 Showtimes: 2:00 PM\n📍 The Wooden Spoon — 1000 S Gentry Blvd\, Gentry \nCome enjoy a fun\, family-friendly night as The Wooden Spoon partners with Lower Lights Theatre Company to bring live theatre to our community. Proceeds from this event help support local arts in Northwest Arkansas! \n🎟 Tickets include:\n• Buffet-style dinner\n• Beverage & dessert\n• Interactive mystery theatre experience \n🍽 Dinner entrée options include:\nAlfredo Pasta\, Chicken Alfredo Pasta\, or Momma’s Meatloaf (guests will select their entrée when purchasing tickets). \nTickets are $60 per person.⚠️ Seating is limited — this event sells out quickly!
URL:https://woodenspoongentry.com/event/mystery-dinner-theatre-the-conundrum-on-the-cracker-jack-cruise-2pm/
LOCATION:The Wooden Spoon\, 1000 S Gentry Blvd\, Gentry\, 72734\, United States
CATEGORIES:Mystery Dinner Theatre
ATTACH;FMTTYPE=image/png:https://woodenspoongentry.com/wp-content/uploads/2026/03/89c64d70-77d0-4883-acc4-e56f451375ed.png
END:VEVENT
END:VCALENDAR